BEGIN:VCALENDAR
VERSION:2.0
PRODID:-//Premium Crops//NONSGML kigkonsult.se iCalcreator 2.30.10//
CALSCALE:GREGORIAN
METHOD:PUBLISH
UID:6e3a1f37-c9b9-4b6d-90cb-51114250322e
X-WR-CALNAME:iCagenda
X-WR-CALDESC:Event Management Extension for Joomla!
X-WR-RELCALID:3E26604A-50F4-4449-8B3E-E4F4932D05B5
X-WR-TIMEZONE:Europe/London
BEGIN:VTIMEZONE
TZID:Europe/London
BEGIN:STANDARD
TZNAME:GMT
DTSTART:20251026T020000
TZOFFSETFROM:+0100
TZOFFSETTO:+0000
RDATE:20261025T020000
END:STANDARD
BEGIN:DAYLIGHT
TZNAME:BST
DTSTART:20260329T010000
TZOFFSETFROM:+0000
TZOFFSETTO:+0100
RDATE:20270328T010000
END:DAYLIGHT
END:VTIMEZONE
BEGIN:VEVENT
UID:48c40f44-ff7e-4a19-be62-f703af324be8
DTSTAMP:20260421T100424Z
CATEGORIES:Events
CLASS:PUBLIC
DESCRIPTION:
DTSTART:20260428T230000Z
DTEND:20260428T230000Z
GEO:+56.210236;-3.14615
LOCATION:Balbirnie House Hotel
ORGANIZER;CN=:info@premiumcrops.com
SEQUENCE:1
SUMMARY:Scottish Linseed: An Autumn Sown Alternative
TRANSP:OPAQUE
URL:https://mail.premiumcrops.com/events/21-scottish-linseed-an-autumn-sown
 -alternative/2026-04-29-00-00.html
END:VEVENT
END:VCALENDAR
